BEGIN:VCALENDAR
VERSION:2.0
PRODID:-//Les petits mots des libraires - ECPv4.2.7//NONSGML v1.0//EN
CALSCALE:GREGORIAN
METHOD:PUBLISH
X-WR-CALNAME:Les petits mots des libraires
X-ORIGINAL-URL:https://lespetitsmotsdeslibraires.fr
X-WR-CALDESC:Events for Les petits mots des libraires
BEGIN:VEVENT
DTSTART;VALUE=DATE:20220528
DTEND;VALUE=DATE:20220529
DTSTAMP:20260423T103901
CREATED:20220512
LAST-MODIFIED:20220512
UID:14920-1653696000-1653868799@lespetitsmotsdeslibraires.fr
SUMMARY:2ème édition de l'Escargot Noir.
DESCRIPTION:Le week end des 28 et 29 aura lieu la deuxième édition du salon l'Escargot Noir à Sens. Il s'agit d'un salon du polar qui réunir 32 auteurs de polar. La fine fleur du milieu sera présente !\n\nLe parrain\, cette année\, sera Olivier Norek. Il vient de sortir "Dans les brumes de Capelans" aux éditions Michel Lafon.\n\nLe vendredi soir\, au cinéma Confluences de Sens\, aura lieu en préambule une table ronde avec Franck Thillier\, Henri Loevenbrick et Jacques Saussey animée par Bob Garcia. Elle sera suivie de la diffusion du film "Délivrance".\n\nLe samedi matin il y aura en simultané trois évènements dans les environs de Sens dont un petit déjeuner littéraire avec Claire Favan.\n\nEt puis à partir de 14h jusqu'à 18h c'est rendez vous au Marché couvert de Sens pour des séances de dédicaces avec tous les auteurs présents. Il en sera de même pour la journée du dimanche.\n\nEn parallèle il y aura même un escape game\, un coin lecture et des séances de jeux de société.\n\n \n\nPlus d'info sur la page facebook : https://www.facebook.com/lescargotnoir89/\n\n
URL:https://lespetitsmotsdeslibraires.fr/event/2eme-edition-de-lescargot-noir/
LOCATION:Sens\, 89100\, France
CATEGORIES:Evénements
ATTACH;FMTTYPE=image/jpeg:https://lespetitsmotsdeslibraires.fr/wp-content/uploads/2022/05/escargot-noir.jpeg
END:VEVENT
END:VCALENDAR